BEGIN:VCALENDAR
VERSION:2.0
PRODID:-//Manufacturing Extension Partnership Center - ECPv5.9.2//NONSGML v1.0//EN
CALSCALE:GREGORIAN
METHOD:PUBLISH
X-WR-CALNAME:Manufacturing Extension Partnership Center
X-ORIGINAL-URL:https://mep.utah.edu
X-WR-CALDESC:Events for Manufacturing Extension Partnership Center
BEGIN:VTIMEZONE
TZID:UTC
BEGIN:STANDARD
TZOFFSETFROM:+0000
TZOFFSETTO:+0000
TZNAME:UTC
DTSTART:20170101T000000
END:STANDARD
END:VTIMEZONE
BEGIN:VEVENT
DTSTART;TZID=UTC:20171110T080000
DTEND;TZID=UTC:20171110T170000
DTSTAMP:20260425T014305
CREATED:20170118T195953Z
LAST-MODIFIED:20170127T191654Z
UID:314-1510300800-1510333200@mep.utah.edu
SUMMARY:Quick Start Lean 101 with Simulations
DESCRIPTION:Quick Start Lean 101 with Simulation ● Tuition $299 ǀ MEP pricing is $199 \nThis course focuses on learning Lean concepts and understanding the why behind the concepts. The Lean simulation will engage every class member in hands-on team building that will further learning and understanding. This is the foundation that will launch and sustain your lean initiatives. \nQualifying companies can receive up to 40% off the following Professional Training \nRegister for this course \nQuestions? Email: info@mep.utah.edu ǀ Phone: 801.587.0713 \nAll trainings take place at:\nThe University of Utah Continuing Education Sandy Center\nOne Sandy Center\n10011 Centennial Parkway\, Suite 100\nSandy\, UT 84070 \nAbout The University of Utah Manufacturing Extension Partnership Center:\nThe University of Utah Manufacturing Extension Partnership (UUMEP) Center is focused on strengthening Utah’s diverse manufacturing companies. The UUMEP supports small and medium-sized manufacturers by providing engaging workforce training\, innovation and process improvement services\, and funding assistance to help drive manufacturers’ productivity\, growth and global competitiveness. We are excited to partner with the University of Utah’s Professional Education Division to offer discounted pricing for employees of qualified manufacturing companies to attend this training.
URL:https://mep.utah.edu/event/quick-start-lean-101-with-simulations-3/
LOCATION:University of Utah Continuing Education Sandy Center\, 10011 Centennial Parkway\, Suite 100\, Sandy\, UT\, 84070\, United States
ORGANIZER;CN="Mark%20Poole%2C%20Education%20Programs%20Manager":MAILTO:mark.poole@mep.utah.edu
END:VEVENT
END:VCALENDAR