BEGIN:VCALENDAR
VERSION:2.0
PRODID:-//Manufacturing Extension Partnership Center - ECPv5.9.2//NONSGML v1.0//EN
CALSCALE:GREGORIAN
METHOD:PUBLISH
X-WR-CALNAME:Manufacturing Extension Partnership Center
X-ORIGINAL-URL:https://mep.utah.edu
X-WR-CALDESC:Events for Manufacturing Extension Partnership Center
BEGIN:VTIMEZONE
TZID:UTC
BEGIN:STANDARD
TZOFFSETFROM:+0000
TZOFFSETTO:+0000
TZNAME:UTC
DTSTART:20170101T000000
END:STANDARD
END:VTIMEZONE
BEGIN:VEVENT
DTSTART;TZID=UTC:20171011T120000
DTEND;TZID=UTC:20171011T123000
DTSTAMP:20260423T212458
CREATED:20170808T143227Z
LAST-MODIFIED:20171005T221443Z
UID:2867-1507723200-1507725000@mep.utah.edu
SUMMARY:Webinar: Protecting your business from cyberattacks
DESCRIPTION:This webinar by Secuvant will provide you with an overview of what can happen to your business during and after a cyberattack. They will also review the reality of NIST 800-171 and what you should be doing now! \nUse this link to access the webinar on Wednesday\, October 11 at 12pm (MST)
URL:https://mep.utah.edu/event/cybersecurity-webinar/
END:VEVENT
END:VCALENDAR